BEGIN:VCALENDAR
VERSION:2.0
PRODID:-//Apotheken Dr.Kottwitz - ECPv6.3.7//NONSGML v1.0//EN
CALSCALE:GREGORIAN
METHOD:PUBLISH
X-WR-CALNAME:Apotheken Dr.Kottwitz
X-ORIGINAL-URL:http://apotheken-drkottwitz.de
X-WR-CALDESC:Veranstaltungen für Apotheken Dr.Kottwitz
REFRESH-INTERVAL;VALUE=DURATION:PT1H
X-Robots-Tag:noindex
X-PUBLISHED-TTL:PT1H
BEGIN:VTIMEZONE
TZID:UTC
BEGIN:STANDARD
TZOFFSETFROM:+0000
TZOFFSETTO:+0000
TZNAME:UTC
DTSTART:20210101T000000
END:STANDARD
END:VTIMEZONE
BEGIN:VEVENT
DTSTART;TZID=UTC:20210611T090000
DTEND;TZID=UTC:20210612T090000
DTSTAMP:20260424T172236
CREATED:20210105T165608Z
LAST-MODIFIED:20210105T165619Z
UID:640-1623402000-1623488400@apotheken-drkottwitz.de
SUMMARY:NOTDIENST
DESCRIPTION:
URL:http://apotheken-drkottwitz.de/event/notdienst-108/
LOCATION:Köln\, Gürzenichstr. 6\, Köln\, NRW\, 50667\, Deutschland
END:VEVENT
BEGIN:VEVENT
DTSTART;TZID=UTC:20210622T113000
DTEND;TZID=UTC:20210622T180000
DTSTAMP:20260424T172236
CREATED:20210519T083733Z
LAST-MODIFIED:20210519T084127Z
UID:666-1624361400-1624384800@apotheken-drkottwitz.de
SUMMARY:AVENE Beratungstag
DESCRIPTION:WIR ZEIGEN IHNEN WIE SIE IHRE HAUT \nOPTIMAL PFLEGEN KÖNNEN!\n20 % RABATT auf alle AVENE Produkte!
URL:http://apotheken-drkottwitz.de/event/avene-beratungstag-10/
LOCATION:Köln\, Gürzenichstr. 6\, Köln\, NRW\, 50667\, Deutschland
END:VEVENT
BEGIN:VEVENT
DTSTART;TZID=UTC:20210627T090000
DTEND;TZID=UTC:20210628T090000
DTSTAMP:20260424T172236
CREATED:20210105T165659Z
LAST-MODIFIED:20210105T165705Z
UID:642-1624784400-1624870800@apotheken-drkottwitz.de
SUMMARY:NOTDIENST
DESCRIPTION:
URL:http://apotheken-drkottwitz.de/event/notdienst-109/
LOCATION:Köln\, Gürzenichstr. 6\, Köln\, NRW\, 50667\, Deutschland
END:VEVENT
END:VCALENDAR