BEGIN:VCALENDAR
VERSION:2.0
PRODID:-//Apotheken Dr.Kottwitz - ECPv6.3.7//NONSGML v1.0//EN
CALSCALE:GREGORIAN
METHOD:PUBLISH
X-WR-CALNAME:Apotheken Dr.Kottwitz
X-ORIGINAL-URL:http://apotheken-drkottwitz.de
X-WR-CALDESC:Veranstaltungen für Apotheken Dr.Kottwitz
REFRESH-INTERVAL;VALUE=DURATION:PT1H
X-Robots-Tag:noindex
X-PUBLISHED-TTL:PT1H
BEGIN:VTIMEZONE
TZID:UTC
BEGIN:STANDARD
TZOFFSETFROM:+0000
TZOFFSETTO:+0000
TZNAME:UTC
DTSTART:20200101T000000
END:STANDARD
END:VTIMEZONE
BEGIN:VEVENT
DTSTART;TZID=UTC:20200708T113000
DTEND;TZID=UTC:20200708T173000
DTSTAMP:20260425T113454
CREATED:20200622T105830Z
LAST-MODIFIED:20200622T110124Z
UID:604-1594207800-1594229400@apotheken-drkottwitz.de
SUMMARY:CAUDALIE Beratungstag
DESCRIPTION:EIN TREFFEN MIT DER SCHÖNHEIT \nHautanalyse\,Individuelle Pflegeempfelungen\nZahlreiche Geschenke.
URL:http://apotheken-drkottwitz.de/event/caudalie-beratungstag-3/
LOCATION:Köln\, Gürzenichstr. 6\, Köln\, NRW\, 50667\, Deutschland
END:VEVENT
BEGIN:VEVENT
DTSTART;TZID=UTC:20200715T090000
DTEND;TZID=UTC:20200716T090000
DTSTAMP:20260425T113454
CREATED:20191130T165648Z
LAST-MODIFIED:20191130T165651Z
UID:554-1594803600-1594890000@apotheken-drkottwitz.de
SUMMARY:NOTDIENST
DESCRIPTION:
URL:http://apotheken-drkottwitz.de/event/notdienst-93/
LOCATION:Köln\, Gürzenichstr. 6\, Köln\, NRW\, 50667\, Deutschland
END:VEVENT
BEGIN:VEVENT
DTSTART;TZID=UTC:20200731T090000
DTEND;TZID=UTC:20200801T090000
DTSTAMP:20260425T113454
CREATED:20191130T170301Z
LAST-MODIFIED:20191130T170304Z
UID:556-1596186000-1596272400@apotheken-drkottwitz.de
SUMMARY:NOTDIENST
DESCRIPTION:
URL:http://apotheken-drkottwitz.de/event/notdienst-94/
LOCATION:Köln\, Gürzenichstr. 6\, Köln\, NRW\, 50667\, Deutschland
END:VEVENT
END:VCALENDAR