BEGIN:VCALENDAR
VERSION:2.0
PRODID:-//Apotheken Dr.Kottwitz - ECPv6.3.7//NONSGML v1.0//EN
CALSCALE:GREGORIAN
METHOD:PUBLISH
X-ORIGINAL-URL:http://apotheken-drkottwitz.de
X-WR-CALDESC:Veranstaltungen für Apotheken Dr.Kottwitz
REFRESH-INTERVAL;VALUE=DURATION:PT1H
X-Robots-Tag:noindex
X-PUBLISHED-TTL:PT1H
BEGIN:VTIMEZONE
TZID:UTC
BEGIN:STANDARD
TZOFFSETFROM:+0000
TZOFFSETTO:+0000
TZNAME:UTC
DTSTART:20200101T000000
END:STANDARD
END:VTIMEZONE
BEGIN:VEVENT
DTSTART;TZID=UTC:20200611T090000
DTEND;TZID=UTC:20200612T090000
DTSTAMP:20260425T141806
CREATED:20191130T165325Z
LAST-MODIFIED:20191130T165329Z
UID:550-1591866000-1591952400@apotheken-drkottwitz.de
SUMMARY:NOTDIENST
DESCRIPTION:
URL:http://apotheken-drkottwitz.de/event/notdienst-91/
LOCATION:Köln\, Gürzenichstr. 6\, Köln\, NRW\, 50667\, Deutschland
END:VEVENT
BEGIN:VEVENT
DTSTART;TZID=UTC:20200625T113000
DTEND;TZID=UTC:20200625T170000
DTSTAMP:20260425T141806
CREATED:20200606T151807Z
LAST-MODIFIED:20200622T110228Z
UID:600-1593084600-1593104400@apotheken-drkottwitz.de
SUMMARY:AVENE Beratungstag
DESCRIPTION:20% RABATT AUF ALLE AVENE PRODUKTE!!!!!!!!!!!!!
URL:http://apotheken-drkottwitz.de/event/avene-beratungstag-9/
LOCATION:Köln\, Gürzenichstr. 6\, Köln\, NRW\, 50667\, Deutschland
END:VEVENT
BEGIN:VEVENT
DTSTART;TZID=UTC:20200629T090000
DTEND;TZID=UTC:20200630T090000
DTSTAMP:20260425T141806
CREATED:20191130T165456Z
LAST-MODIFIED:20191130T165459Z
UID:552-1593421200-1593507600@apotheken-drkottwitz.de
SUMMARY:NOTDIENST
DESCRIPTION:
URL:http://apotheken-drkottwitz.de/event/notdienst-92/
LOCATION:Köln\, Gürzenichstr. 6\, Köln\, NRW\, 50667\, Deutschland
END:VEVENT
END:VCALENDAR