BEGIN:VCALENDAR
VERSION:2.0
PRODID:-//Apotheken Dr.Kottwitz - ECPv6.3.7//NONSGML v1.0//EN
CALSCALE:GREGORIAN
METHOD:PUBLISH
X-WR-CALNAME:Apotheken Dr.Kottwitz
X-ORIGINAL-URL:http://apotheken-drkottwitz.de
X-WR-CALDESC:Veranstaltungen für Apotheken Dr.Kottwitz
REFRESH-INTERVAL;VALUE=DURATION:PT1H
X-Robots-Tag:noindex
X-PUBLISHED-TTL:PT1H
BEGIN:VTIMEZONE
TZID:UTC
BEGIN:STANDARD
TZOFFSETFROM:+0000
TZOFFSETTO:+0000
TZNAME:UTC
DTSTART:20200101T000000
END:STANDARD
END:VTIMEZONE
BEGIN:VEVENT
DTSTART;TZID=UTC:20200204T113000
DTEND;TZID=UTC:20200204T170000
DTSTAMP:20260425T182354
CREATED:20191106T123640Z
LAST-MODIFIED:20191106T123640Z
UID:534-1580815800-1580835600@apotheken-drkottwitz.de
SUMMARY:Louis Widmer  Beratungstag
DESCRIPTION:
URL:http://apotheken-drkottwitz.de/event/louis-widmer-beratungstag/
LOCATION:Köln\, Gürzenichstr. 6\, Köln\, NRW\, 50667\, Deutschland
END:VEVENT
BEGIN:VEVENT
DTSTART;VALUE=DATE:20200214
DTEND;VALUE=DATE:20200215
DTSTAMP:20260425T182354
CREATED:20200206T134051Z
LAST-MODIFIED:20200206T134051Z
UID:561-1581638400-1581724799@apotheken-drkottwitz.de
SUMMARY:AVENE LADIES DAY - happy30
DESCRIPTION:Feiern Sie mit uns 30 Jahre Avene und erhalten Sie exklusiv \n30 % Rabatt auf Ihren Avene Einkauf!
URL:http://apotheken-drkottwitz.de/event/avene-ladies-day-happy30/
LOCATION:Köln\, Gürzenichstr. 6\, Köln\, NRW\, 50667\, Deutschland
END:VEVENT
BEGIN:VEVENT
DTSTART;TZID=UTC:20200214T090000
DTEND;TZID=UTC:20200215T090000
DTSTAMP:20260425T182354
CREATED:20191106T125836Z
LAST-MODIFIED:20191106T125836Z
UID:539-1581670800-1581757200@apotheken-drkottwitz.de
SUMMARY:NOTDIENST
DESCRIPTION:
URL:http://apotheken-drkottwitz.de/event/notdienst-86/
LOCATION:Köln\, Gürzenichstr. 6\, Köln\, NRW\, 50667\, Deutschland
END:VEVENT
END:VCALENDAR