BEGIN:VCALENDAR
VERSION:2.0
PRODID:-//Apotheken Dr.Kottwitz - ECPv6.3.7//NONSGML v1.0//EN
CALSCALE:GREGORIAN
METHOD:PUBLISH
X-WR-CALNAME:Apotheken Dr.Kottwitz
X-ORIGINAL-URL:http://apotheken-drkottwitz.de
X-WR-CALDESC:Veranstaltungen für Apotheken Dr.Kottwitz
REFRESH-INTERVAL;VALUE=DURATION:PT1H
X-Robots-Tag:noindex
X-PUBLISHED-TTL:PT1H
BEGIN:VTIMEZONE
TZID:UTC
BEGIN:STANDARD
TZOFFSETFROM:+0000
TZOFFSETTO:+0000
TZNAME:UTC
DTSTART:20260101T000000
END:STANDARD
END:VTIMEZONE
BEGIN:VEVENT
DTSTART;TZID=UTC:20260422T110000
DTEND;TZID=UTC:20260422T160000
DTSTAMP:20260422T013459
CREATED:20260305T112602Z
LAST-MODIFIED:20260305T112602Z
UID:943-1776855600-1776873600@apotheken-drkottwitz.de
SUMMARY:SKINCEUTICALS BERATUNGSTAG
DESCRIPTION:
URL:http://apotheken-drkottwitz.de/event/skinceuticals-beratungstag-7/
LOCATION:Köln\, Gürzenichstr. 6\, Köln\, NRW\, 50667\, Deutschland
END:VEVENT
END:VCALENDAR