BEGIN:VCALENDAR
VERSION:2.0
PRODID:-//Apotheken Dr.Kottwitz - ECPv6.3.7//NONSGML v1.0//EN
CALSCALE:GREGORIAN
METHOD:PUBLISH
X-WR-CALNAME:Apotheken Dr.Kottwitz
X-ORIGINAL-URL:http://apotheken-drkottwitz.de
X-WR-CALDESC:Veranstaltungen fÃ¼r Apotheken Dr.Kottwitz
REFRESH-INTERVAL;VALUE=DURATION:PT1H
X-Robots-Tag:noindex
X-PUBLISHED-TTL:PT1H
BEGIN:VTIMEZONE
TZID:UTC
BEGIN:STANDARD
TZOFFSETFROM:+0000
TZOFFSETTO:+0000
TZNAME:UTC
DTSTART:20200101T000000
END:STANDARD
END:VTIMEZONE
BEGIN:VEVENT
DTSTART;VALUE=DATE:20200811
DTEND;VALUE=DATE:20200812
DTSTAMP:20260425T113321
CREATED:20200206T134807Z
LAST-MODIFIED:20200622T110253Z
UID:564-1597104000-1597190399@apotheken-drkottwitz.de
SUMMARY:AVENE BERATUNGSTAG
DESCRIPTION:20 % RABATT ! \n 
URL:http://apotheken-drkottwitz.de/event/avene-beratungstag-8/
LOCATION:KÃ¶ln\, GÃ¼rzenichstr. 6\, KÃ¶ln\, NRW\, 50667\, Deutschland
END:VEVENT
END:VCALENDAR