BEGIN:VCALENDAR
VERSION:2.0
PRODID:-//Apotheken Dr.Kottwitz - ECPv6.3.7//NONSGML v1.0//EN
CALSCALE:GREGORIAN
METHOD:PUBLISH
X-ORIGINAL-URL:http://apotheken-drkottwitz.de
X-WR-CALDESC:Veranstaltungen für Apotheken Dr.Kottwitz
REFRESH-INTERVAL;VALUE=DURATION:PT1H
X-Robots-Tag:noindex
X-PUBLISHED-TTL:PT1H
BEGIN:VTIMEZONE
TZID:UTC
BEGIN:STANDARD
TZOFFSETFROM:+0000
TZOFFSETTO:+0000
TZNAME:UTC
DTSTART:20200101T000000
END:STANDARD
END:VTIMEZONE
BEGIN:VEVENT
DTSTART;TZID=UTC:20200204T113000
DTEND;TZID=UTC:20200204T170000
DTSTAMP:20260425T194819
CREATED:20191106T123640Z
LAST-MODIFIED:20191106T123640Z
UID:534-1580815800-1580835600@apotheken-drkottwitz.de
SUMMARY:Louis Widmer  Beratungstag
DESCRIPTION:
URL:http://apotheken-drkottwitz.de/event/louis-widmer-beratungstag/
LOCATION:Köln\, Gürzenichstr. 6\, Köln\, NRW\, 50667\, Deutschland
END:VEVENT
END:VCALENDAR